BEGIN:VCALENDAR
VERSION:2.0
PRODID:-//Contratero//ES
CALSCALE:GREGORIAN
METHOD:PUBLISH
BEGIN:VEVENT
UID:CONTR 2023/21759@contratero.es
DTSTAMP:20260424T203732Z
DTSTART:20231219T235959
DTEND:20231220T005959
SUMMARY:Cierre: servicio de mantenimiento y soporte técnico de lic
DESCRIPTION:servicio de mantenimiento y soporte técnico de licencias del programa LIMS (Laboratorio de Salud Pública\\n\\nOrganismo: Consejería de Salud y Consumo\\n\\nVer en Contratero: https://contratero.es/contracts/CONTR 2023/21759
URL:https://contratero.es/contracts/CONTR 2023/21759
STATUS:CONFIRMED
BEGIN:VALARM
TRIGGER:-P1D
ACTION:DISPLAY
DESCRIPTION:Recordatorio: servicio de mantenimiento y so
END:VALARM
END:VEVENT
END:VCALENDAR